BEGIN:VCALENDAR
VERSION:2.0
PRODID:icalendar-ruby
CALSCALE:GREGORIAN
X-WR-TIMEZONE:Europe/Helsinki
BEGIN:VTIMEZONE
TZID:Europe/Helsinki
BEGIN:DAYLIGHT
DTSTART:20260329T040000
TZOFFSETFROM:+0200
TZOFFSETTO:+0300
RRULE:FREQ=YEARLY;BYDAY=-1SU;BYMONTH=3
TZNAME:EEST
END:DAYLIGHT
BEGIN:STANDARD
DTSTART:20261025T030000
TZOFFSETFROM:+0300
TZOFFSETTO:+0200
RRULE:FREQ=YEARLY;BYDAY=-1SU;BYMONTH=10
TZNAME:EET
END:STANDARD
END:VTIMEZONE
BEGIN:VEVENT
DTSTAMP:20260422T114713
UID:tamsk.myclub.fi-7134660
DTSTART;TZID=Europe/Helsinki:20240720T113000
DTEND;TZID=Europe/Helsinki:20240720T143000
DESCRIPTION:Päivikki Partinen (https://www.ppstyle.fi) saapuu TamSKille ko
 uluttamaan hoopersin ison kentän ratatreeniä sekä pienen kentän alkeis
 -/perustreeniä.\nIson kentän ratatreeni klo 11.30-13.00 ja 13.00-14.30\,
  ensimmäinen ryhmä rakentaa radan klo 11-11.30 ja toinen purkaa treenin 
 jälkeen. Yhteen ryhmään otetaan maksimissaan kuusi osallistujaa.\nHinta
  40€ / TamSKilainen koirakko\, 50 € / muut koirakot\n\nIlmoittautumine
 n koulutukseen aukeaa to 13.6.2024 klo 10.00 Ilmoittautuminen päättyy su
  7.7.2024 klo 20.00\nTamSKilaiset ovat etusijalla koulutukseen.\nHuomioith
 an\, että ilmoittautumiset koulutukseen ovat sitovia. Jos siis et pääse
 kään treeneihin\, ilmoita hoopers-vastaavalle\, joka tarkastaa jonotilan
 teen. Jos jonossa ei ole ketään\, voit myydä treenipaikan.\n\nhttps://t
 amsk.myclub.fi/flow/events/7134660
LOCATION:Kenttä 1-2\, Luhtaantie 58\, Suomi
SEQUENCE:0
SUMMARY:Tampereen Seudun Koirakerho ry: Hoopersin ison kentän ratatreeni
URL;VALUE=URI:https://tamsk.myclub.fi/flow/events/7134660
END:VEVENT
END:VCALENDAR
