BEGIN:VCALENDAR
VERSION:2.0
PRODID:icalendar-ruby
CALSCALE:GREGORIAN
X-WR-TIMEZONE:Europe/Helsinki
BEGIN:VTIMEZONE
TZID:Europe/Helsinki
BEGIN:DAYLIGHT
DTSTART:20260329T040000
TZOFFSETFROM:+0200
TZOFFSETTO:+0300
RRULE:FREQ=YEARLY;BYDAY=-1SU;BYMONTH=3
TZNAME:EEST
END:DAYLIGHT
BEGIN:STANDARD
DTSTART:20261025T030000
TZOFFSETFROM:+0300
TZOFFSETTO:+0200
RRULE:FREQ=YEARLY;BYDAY=-1SU;BYMONTH=10
TZNAME:EET
END:STANDARD
END:VTIMEZONE
BEGIN:VEVENT
DTSTAMP:20260424T010416
UID:tamsk.myclub.fi-6380841
DTSTART;TZID=Europe/Helsinki:20240204T133000
DTEND;TZID=Europe/Helsinki:20240204T173000
DESCRIPTION:Agility tuomari Seppo Savikko tulee kouluttamaan Tamskille 4.2.
 24\nKaksi 5 koirakon ryhmää:  Ryhmä 1 13.30 - 15.30  Ryhmä 2 15.30 - 1
 7.30 Koulutus kentällä 4-5 viimeinen ryhmä purkaa radan  \nKoulutus sop
 ii jokaiselle koirakolle.\nIlmoittautuminen koulutukseen aukeaa MyClubissa
  5.1.24 klo 18 ja päättyy 20.1.24 klo 18.   Hinta / kerta: 48 e/koirakko
  TamSKilaisille\, muille 57 e/koirakko. Tamskilaiset ovat etusijalla koulu
 tukseen.\nHuom! Ilmoittautumiset ovat sitovia! Se tarkoittaa\, että kun o
 let ilmoittautunut ja mahtunut mukaan\, on sinun maksettava osallistuminen
 . Lasku lähetetään 2 viikkoa ennen tapahtumaa. Jos joudut jäämään p
 ois ennen tätä\, ilmoita koulutusvastaavalle ja katsomme MyClubista onko
  varalla koulutukseen tulijoita. Jos jonossa ei ole ketään tai olet jo s
 aanut tapahtumasta laskun\, myythän itse oman treenipaikkasi seuraavalle 
 ja hoidat tapahtumasta tulevat tiedot paikkasi ostajalle.\nJos olet jonoss
 a\, sinulta kysytään otatko vapautuneen paikan vastaan\, mutta 2 vkoa en
 nen tapahtumaa\, kun laskut on lähetetty ei jonossa olijoille enää tarj
 ota paikkaa.  Lisätietoja Nina Hanikalta nina.hanikka@tamsk.com\n\n  \n\n
 https://tamsk.myclub.fi/flow/events/6380841
LOCATION:Kenttä 4-5\, Luhtaantie 58\, Suomi
SEQUENCE:0
SUMMARY:Tampereen Seudun Koirakerho ry: Agility tuomari Seppo Savikko tulee
  kouluttamaan Tamskille 4.2.24
URL;VALUE=URI:https://tamsk.myclub.fi/flow/events/6380841
END:VEVENT
END:VCALENDAR
