BEGIN:VCALENDAR
VERSION:2.0
PRODID:icalendar-ruby
CALSCALE:GREGORIAN
X-WR-TIMEZONE:Europe/Helsinki
BEGIN:VTIMEZONE
TZID:Europe/Helsinki
BEGIN:DAYLIGHT
DTSTART:20260329T040000
TZOFFSETFROM:+0200
TZOFFSETTO:+0300
RRULE:FREQ=YEARLY;BYDAY=-1SU;BYMONTH=3
TZNAME:EEST
END:DAYLIGHT
BEGIN:STANDARD
DTSTART:20261025T030000
TZOFFSETFROM:+0300
TZOFFSETTO:+0200
RRULE:FREQ=YEARLY;BYDAY=-1SU;BYMONTH=10
TZNAME:EET
END:STANDARD
END:VTIMEZONE
BEGIN:VEVENT
DTSTAMP:20260424T010701
UID:tamsk.myclub.fi-6380826
DTSTART;TZID=Europe/Helsinki:20240314T100000
DTEND;TZID=Europe/Helsinki:20240314T160000
DESCRIPTION:Maiju Korhonen kouluttaa agilitya Tamskilla torstaina to 14.3.2
 4 klo 10-16\nMaijuun voit tutustua enemmän hänen sivuillaan: https://www
 .ikitempo.fi/maiju/\nKolme 5 koirakon ryhmää\, ensimmäinen ryhmä raken
 taa radan klo 9.15 alkaen ja viimeinen purkaa.  Ryhmä 1 10 - 12  Ryhmä 2
  12 - 14  Ryhmä 3 14 - 16  \nIlmoittautuminen koulutukseen aukeaa MyClubi
 ssa 13.2.24 klo 18 ja päättyy 28.2.24 klo 18.\nHinta / kerta: 52 e/koira
 kko TamSKilaisille\, muille 62 e/koirakko.\nTamskilaiset ovat etusijalla k
 oulutukseen.\nLisätietoja Nina Hanikalta nina.hanikka@tamsk.com\nHuom! Il
 moittautumiset ovat sitovia! Se tarkoittaa\, että kun olet ilmoittautunut
  ja mahtunut mukaan\, on sinun maksettava osallistuminen. Lasku lähetetä
 än 2 viikkoa ennen tapahtumaa. Jos joudut jäämään pois ennen tätä\,
  ilmoita koulutusvastaavalle ja katsomme MyClubista onko varalla koulutuks
 een tulijoita. Jos jonossa ei ole ketään tai olet jo saanut tapahtumasta
  laskun\, myythän itse oman treenipaikkasi seuraavalle ja hoidat tapahtum
 asta tulevat tiedot paikkasi ostajalle.\nJos olet jonossa\, sinulta kysyt
 ään otatko vapautuneen paikan vastaan\, mutta 2 vkoa ennen tapahtumaa\, 
 kun laskut on lähetetty ei jonossa olijoille enää tarjota paikkaa. \n\n
 https://tamsk.myclub.fi/flow/events/6380826
LOCATION:Kenttä 4-5\, Luhtaantie 58\, Suomi
SEQUENCE:0
SUMMARY:Tampereen Seudun Koirakerho ry: Maiju Korhonen kouluttaa agilitya t
 o 14.3.24 PERUTTU
URL;VALUE=URI:https://tamsk.myclub.fi/flow/events/6380826
END:VEVENT
END:VCALENDAR
