BEGIN:VCALENDAR
VERSION:2.0
PRODID:icalendar-ruby
CALSCALE:GREGORIAN
X-WR-TIMEZONE:Europe/Helsinki
BEGIN:VTIMEZONE
TZID:Europe/Helsinki
BEGIN:DAYLIGHT
DTSTART:20260329T040000
TZOFFSETFROM:+0200
TZOFFSETTO:+0300
RRULE:FREQ=YEARLY;BYDAY=-1SU;BYMONTH=3
TZNAME:EEST
END:DAYLIGHT
BEGIN:STANDARD
DTSTART:20261025T030000
TZOFFSETFROM:+0300
TZOFFSETTO:+0200
RRULE:FREQ=YEARLY;BYDAY=-1SU;BYMONTH=10
TZNAME:EET
END:STANDARD
END:VTIMEZONE
BEGIN:VEVENT
DTSTAMP:20260421T113356
UID:tamsk.myclub.fi-6369511
DTSTART;TZID=Europe/Helsinki:20240105T190000
DTEND;TZID=Europe/Helsinki:20240105T200000
DESCRIPTION:Tokon VOI-EVL-kurssi. Kurssilla harjoitellaan/ vahvistetaan yle
 mpien luokkien liikkeitä koirakon tason mukaan. Kurssiin sisältyy myös 
 kokeen omaisia harjoituksia.\nKouluttaja: Nina Kuni. Nina treenaa tokon va
 lmennusryhmässä. Rallytoko kuuluu myös harrastuksiin.\nHinta: 132€.\n
 Kurssi on tarkoitettu Tamskin jäsenille. Jäseneksi voit liittyä tästä
 : https://tamsk.myclub.fi/flow/courses/4153101\n\nhttps://tamsk.myclub.fi/
 flow/events/6369511
LOCATION:Kenttä 2 \, Luhtaantie 58\, Suomi
SEQUENCE:0
SUMMARY:Tampereen Seudun Koirakerho ry: Tokon VOI-EVL-kurssi. 12krt. Perjan
 tai 5.1. alkaen klo 19-20.
URL;VALUE=URI:https://tamsk.myclub.fi/flow/events/6369511
END:VEVENT
END:VCALENDAR
