BEGIN:VCALENDAR
VERSION:2.0
PRODID:icalendar-ruby
CALSCALE:GREGORIAN
X-WR-TIMEZONE:Europe/Helsinki
BEGIN:VTIMEZONE
TZID:Europe/Helsinki
BEGIN:DAYLIGHT
DTSTART:20260329T040000
TZOFFSETFROM:+0200
TZOFFSETTO:+0300
RRULE:FREQ=YEARLY;BYDAY=-1SU;BYMONTH=3
TZNAME:EEST
END:DAYLIGHT
BEGIN:STANDARD
DTSTART:20261025T030000
TZOFFSETFROM:+0300
TZOFFSETTO:+0200
RRULE:FREQ=YEARLY;BYDAY=-1SU;BYMONTH=10
TZNAME:EET
END:STANDARD
END:VTIMEZONE
BEGIN:VEVENT
DTSTAMP:20260422T124853
UID:tamsk.myclub.fi-6145553
DTSTART;TZID=Europe/Helsinki:20231020T190000
DTEND;TZID=Europe/Helsinki:20231020T200000
DESCRIPTION:Alokasluokan liikkeitä jo jonkin verran osaaville koirakoille.
  \nHarjoitellaan koesuorituksen rakentamista tukitaidoista\, siirtymistä 
 ja liikkeistä kohti ehjää kokonaisuutta. Joka kerta tehdään myös pai
 kallaoloharjoitus. \nKurssi kerrat: pe 20.10. klo 19–20\, pe 3.11. klo 1
 9–20\, pe 17.11. klo 19–20\, pe 1.12. klo 19–20\, pe 15.12. klo 19
 –20 ja pe 29.12. klo 19–20.\nKouluttaja: Marika Mykrä\nHinta: 66€.\
 nKurssi on tarkoitettu Tamskin jäsenille\, liittyä voit täältä: https
 ://tamsk.myclub.fi/flow/courses/4153101\n\nhttps://tamsk.myclub.fi/flow/ev
 ents/6145553
LOCATION:Kenttä 2 \, Luhtaantie 58\, Suomi
SEQUENCE:0
SUMMARY:Tampereen Seudun Koirakerho ry: Toko ALO – Kohti kokonaisuutta (6
 krt)\, alkaen pe 20.10. klo 19–20\, joka toinen viikko.
URL;VALUE=URI:https://tamsk.myclub.fi/flow/events/6145553
END:VEVENT
END:VCALENDAR
