BEGIN:VCALENDAR
VERSION:2.0
PRODID:icalendar-ruby
CALSCALE:GREGORIAN
X-WR-TIMEZONE:Europe/Helsinki
BEGIN:VTIMEZONE
TZID:Europe/Helsinki
BEGIN:DAYLIGHT
DTSTART:20260329T040000
TZOFFSETFROM:+0200
TZOFFSETTO:+0300
RRULE:FREQ=YEARLY;BYDAY=-1SU;BYMONTH=3
TZNAME:EEST
END:DAYLIGHT
BEGIN:STANDARD
DTSTART:20261025T030000
TZOFFSETFROM:+0300
TZOFFSETTO:+0200
RRULE:FREQ=YEARLY;BYDAY=-1SU;BYMONTH=10
TZNAME:EET
END:STANDARD
END:VTIMEZONE
BEGIN:VEVENT
DTSTAMP:20260422T124921
UID:tamsk.myclub.fi-6003845
DTSTART;TZID=Europe/Helsinki:20230902T160000
DTEND;TZID=Europe/Helsinki:20230902T160000
DESCRIPTION:Kohti tokon avointa luokkaa -kurssi on tarkoitettu lähes kisav
 almiille koirakoille\, jotka haluavat kokeilla kokonaisuuksien treenaamist
 a liikkuroituna sekä keskittyä hiomaan niistä vielä parempia.\n\nKurss
 i on kahden kerran kurssi\, jonka aikana käydään kaikki avoimen luokan 
 liikkeet läpi. Paikallaolot tehdään molemmilla kerroilla. Osa treeniaja
 sta käytetään sen kerran liikkeiden hiomiseen.\nKurssikerrat:\nLa 2.9. 
 klo 16\nLa 23.9. klo 12\n\nHinta kurssille on 22€.\nKouluttajana Ruusa E
 loniemi.\nTreeni on tarkoitettu Tamskin jäsenille. Jäseneksi voit liitty
 ä täältä: https://tamsk.myclub.fi/flow/courses/4153101\n\nhttps://tams
 k.myclub.fi/flow/events/6003845
LOCATION:Kenttä 1 \, Luhtaantie 58\, Tampere\, Suomi
SEQUENCE:0
SUMMARY:Tampereen Seudun Koirakerho ry: Kohti tokon avointa luokkaa -kurssi
URL;VALUE=URI:https://tamsk.myclub.fi/flow/events/6003845
END:VEVENT
END:VCALENDAR
