BEGIN:VCALENDAR
VERSION:2.0
PRODID:icalendar-ruby
CALSCALE:GREGORIAN
X-WR-TIMEZONE:Europe/Helsinki
BEGIN:VTIMEZONE
TZID:Europe/Helsinki
BEGIN:DAYLIGHT
DTSTART:20260329T040000
TZOFFSETFROM:+0200
TZOFFSETTO:+0300
RRULE:FREQ=YEARLY;BYDAY=-1SU;BYMONTH=3
TZNAME:EEST
END:DAYLIGHT
BEGIN:STANDARD
DTSTART:20261025T030000
TZOFFSETFROM:+0300
TZOFFSETTO:+0200
RRULE:FREQ=YEARLY;BYDAY=-1SU;BYMONTH=10
TZNAME:EET
END:STANDARD
END:VTIMEZONE
BEGIN:VEVENT
DTSTAMP:20260422T112602
UID:tamsk.myclub.fi-6003801
DTSTART;TZID=Europe/Helsinki:20230902T150000
DTEND;TZID=Europe/Helsinki:20230902T150000
DESCRIPTION:Kohti tokon alokasluokkaa -kurssi on tarkoitettu lähes kisaval
 miille koirakoille\, jotka haluavat kokeilla kokonaisuuksien treenaamista 
 liikkuroituna sekä keskittyä hiomaan niistä vielä parempia.\n\nKurssi 
 on kahden kerran kurssi\, jonka aikana käydään kaikki alokasluokan liik
 keet läpi. Paikallaolot tehdään molemmilla kerroilla. Osa treeniajasta 
 käytetään sen kerran liikkeiden hiomiseen.\nKurssikerrat:\nLa 2.9. klo 
 15\nLa 23.9. klo 11\n\nHinta kurssille on 22€.\nKouluttajana Ruusa Eloni
 emi.\nTreeni on tarkoitettu Tamskin jäsenille. Jäseneksi voit liittyä t
 äältä: https://tamsk.myclub.fi/flow/courses/4153101\n\nhttps://tamsk.my
 club.fi/flow/events/6003801
LOCATION:Kenttä 1 \, Luhtaantie 58\, Tampere\, Suomi
SEQUENCE:0
SUMMARY:Tampereen Seudun Koirakerho ry: Kohti tokon alokasluokkaa -kurssi
URL;VALUE=URI:https://tamsk.myclub.fi/flow/events/6003801
END:VEVENT
END:VCALENDAR
