BEGIN:VCALENDAR
VERSION:2.0
PRODID:icalendar-ruby
CALSCALE:GREGORIAN
X-WR-TIMEZONE:Europe/Helsinki
BEGIN:VTIMEZONE
TZID:Europe/Helsinki
BEGIN:DAYLIGHT
DTSTART:20260329T040000
TZOFFSETFROM:+0200
TZOFFSETTO:+0300
RRULE:FREQ=YEARLY;BYDAY=-1SU;BYMONTH=3
TZNAME:EEST
END:DAYLIGHT
BEGIN:STANDARD
DTSTART:20261025T030000
TZOFFSETFROM:+0300
TZOFFSETTO:+0200
RRULE:FREQ=YEARLY;BYDAY=-1SU;BYMONTH=10
TZNAME:EET
END:STANDARD
END:VTIMEZONE
BEGIN:VEVENT
DTSTAMP:20260424T004806
UID:tamsk.myclub.fi-5873560
DTSTART;TZID=Europe/Helsinki:20240303T110000
DTEND;TZID=Europe/Helsinki:20240303T170000
DESCRIPTION:Tanja Kurikka kouluttaa agilitya Tamskilla su 3.3.24\nIlmoittau
 tumis aika pe 2.2.24 - la 17.2.24 klo 18:00 MyClubissa.\nTanjan esittely h
 ttps://www.tanjakurikka.fi/about/\nkolme 5 koirakon ryhmää\, ensimmäine
 n ryhmä rakentaa radan klo 10 alkaen ja viimeinen purkaa  Ryhmä1: 11-13 
 ratatreeni  Ryhmö2: 13-15 ratatreeni  Ryhmä3: 15-17 ratatreeni  \nKoulut
 us sopii jokaiselle koirakolle. ratatreenin sijaan on mahdollista tehdä p
 ieniä pätkiä ja tekniikkaa.\nHinta / kerta:40€ /koirakko TamSKilaisil
 le\, muille 50€/koirakko.\nTamskilaiset ovat etusijalla koulutukseen.\nH
 uom! Ilmoittautumiset ovat sitovia! Se tarkoittaa\, että kun olet ilmoitt
 autunut ja mahtunut mukaan\, on sinun maksettava osallistuminen. Lasku lä
 hetetään 2 viikkoa ennen tapahtumaa. Jos joudut jäämään pois ennen t
 ätä\, ilmoita koulutusvastaavalle ja katsomme MyClubista onko varalla ko
 ulutukseen tulijoita. Jos jonossa ei ole ketään tai olet jo saanut tapah
 tumasta laskun\, myythän itse oman treenipaikkasi seuraavalle ja hoidat t
 apahtumasta tulevat tiedot paikkasi ostajalle.\nJos olet jonossa\, sinulta
  kysytään otatko vapautuneen paikan vastaan\, mutta 2 vkoa ennen tapahtu
 maa\, kun laskut on lähetetty ei jonossa olijoille enää tarjota paikkaa
 .\nlisätietoja Nina Hanikalta nina.hanikka@tamsk.com\n\nhttps://tamsk.myc
 lub.fi/flow/events/5873560
LOCATION:Kenttä 4-5\, Luhtaantie 58\, Suomi
SEQUENCE:0
SUMMARY:Tampereen Seudun Koirakerho ry: Tanja Kurikka kouluttaa agilitya Ta
 mskilla  su 3.3.24
URL;VALUE=URI:https://tamsk.myclub.fi/flow/events/5873560
END:VEVENT
END:VCALENDAR
