BEGIN:VCALENDAR
VERSION:2.0
PRODID:icalendar-ruby
CALSCALE:GREGORIAN
X-WR-TIMEZONE:Europe/Helsinki
BEGIN:VTIMEZONE
TZID:Europe/Helsinki
BEGIN:DAYLIGHT
DTSTART:20260329T040000
TZOFFSETFROM:+0200
TZOFFSETTO:+0300
RRULE:FREQ=YEARLY;BYDAY=-1SU;BYMONTH=3
TZNAME:EEST
END:DAYLIGHT
BEGIN:STANDARD
DTSTART:20261025T030000
TZOFFSETFROM:+0300
TZOFFSETTO:+0200
RRULE:FREQ=YEARLY;BYDAY=-1SU;BYMONTH=10
TZNAME:EET
END:STANDARD
END:VTIMEZONE
BEGIN:VEVENT
DTSTAMP:20260424T005859
UID:tamsk.myclub.fi-5873274
DTSTART;TZID=Europe/Helsinki:20240128T110000
DTEND;TZID=Europe/Helsinki:20240128T170000
DESCRIPTION:Tanja Kurikka kouluttaa agilitya Tamskilla su 28.1.24\nIlmoitta
 utumis aika pe 29.12.23 - la 13.1.24klo 18:00 MyClubissa.\nTanjan esittely
  https://www.tanjakurikka.fi/about/\nkolme 5 koirakon ryhmää\, ensimmäi
 nen ryhmä rakentaa radan klo 10 alkaen ja viimeinen purkaa  Ryhmä1: 11-1
 3 ratatreeni  Ryhmö2: 13-15 ratatreeni  Ryhmä3: 15-17 ratatreeni  \nKoul
 utus sopii jokaiselle koirakolle. ratatreenin sijaan on mahdollista tehdä
  pieniä pätkiä ja tekniikkaa.\nHinta / kerta:40€ /koirakko TamSKilais
 ille\, muille 50€/koirakko.\nTamskilaiset ovat etusijalla koulutukseen.\
 nHuom! Ilmoittautumiset ovat sitovia! Se tarkoittaa\, että kun olet ilmoi
 ttautunut ja mahtunut mukaan\, on sinun maksettava osallistuminen. Lasku l
 ähetetään 2 viikkoa ennen tapahtumaa. Jos joudut jäämään pois ennen
  tätä\, ilmoita koulutusvastaavalle ja katsomme MyClubista onko varalla 
 koulutukseen tulijoita. Jos jonossa ei ole ketään tai olet jo saanut tap
 ahtumasta laskun\, myythän itse oman treenipaikkasi seuraavalle ja hoidat
  tapahtumasta tulevat tiedot paikkasi ostajalle.\nJos olet jonossa\, sinul
 ta kysytään otatko vapautuneen paikan vastaan\, mutta 2 vkoa ennen tapah
 tumaa\, kun laskut on lähetetty ei jonossa olijoille enää tarjota paikk
 aa.\nlisätietoja Nina Hanikalta nina.hanikka@tamsk.com\n\nhttps://tamsk.m
 yclub.fi/flow/events/5873274
LOCATION:Kenttä 4-5\, Luhtaantie 58\, Suomi
SEQUENCE:0
SUMMARY:Tampereen Seudun Koirakerho ry: Tanja Kurikka kouluttaa agilitya Ta
 mskilla  su 28.1.24
URL;VALUE=URI:https://tamsk.myclub.fi/flow/events/5873274
END:VEVENT
END:VCALENDAR
