BEGIN:VCALENDAR
VERSION:2.0
PRODID:icalendar-ruby
CALSCALE:GREGORIAN
X-WR-TIMEZONE:Europe/Helsinki
BEGIN:VTIMEZONE
TZID:Europe/Helsinki
BEGIN:DAYLIGHT
DTSTART:20260329T040000
TZOFFSETFROM:+0200
TZOFFSETTO:+0300
RRULE:FREQ=YEARLY;BYDAY=-1SU;BYMONTH=3
TZNAME:EEST
END:DAYLIGHT
BEGIN:STANDARD
DTSTART:20261025T030000
TZOFFSETFROM:+0300
TZOFFSETTO:+0200
RRULE:FREQ=YEARLY;BYDAY=-1SU;BYMONTH=10
TZNAME:EET
END:STANDARD
END:VTIMEZONE
BEGIN:VEVENT
DTSTAMP:20260422T131103
UID:tamsk.myclub.fi-5704236
DTSTART;TZID=Europe/Helsinki:20230801T173000
DTEND;TZID=Europe/Helsinki:20230801T183000
DESCRIPTION:Arkitottelevaisuuskurssi pennuille/ junnuille (5krt). Pentukurs
 sille saa tulla 3kk vanhan pennun kanssa. Pentu tulee kuitenkin rokottaa k
 ennelliiton säädösten mukaisesti\, eli 5kk vanhalla pennulla pitää ol
 la kaikki rokotukset kunnossa. Kurssilla harjoitellaan sujuvaan arkeen lii
 ttyviä asioita.\nKouluttaja: Tiina Ruuskanen\nHinta: 55€.\nKurssi on ta
 rkoitettu Tamskin jäsenille. Jäseneksi voit liittyä täältä: https://
 tamsk.myclub.fi/flow/courses/4153101\n\nhttps://tamsk.myclub.fi/flow/event
 s/5704236
LOCATION:Kenttä 2 \, Luhtaantie 58\, Suomi
SEQUENCE:0
SUMMARY:Tampereen Seudun Koirakerho ry: Arkitottelevaisuuskurssi PENNUILLE/
  JUNNUILLE. Tiistaisin 1.8. alkaen\, klo 17.30-18.30. 5krt.
URL;VALUE=URI:https://tamsk.myclub.fi/flow/events/5704236
END:VEVENT
END:VCALENDAR
