BEGIN:VCALENDAR
VERSION:2.0
PRODID:icalendar-ruby
CALSCALE:GREGORIAN
X-WR-TIMEZONE:Europe/Helsinki
BEGIN:VTIMEZONE
TZID:Europe/Helsinki
BEGIN:DAYLIGHT
DTSTART:20260329T040000
TZOFFSETFROM:+0200
TZOFFSETTO:+0300
RRULE:FREQ=YEARLY;BYDAY=-1SU;BYMONTH=3
TZNAME:EEST
END:DAYLIGHT
BEGIN:STANDARD
DTSTART:20261025T030000
TZOFFSETFROM:+0300
TZOFFSETTO:+0200
RRULE:FREQ=YEARLY;BYDAY=-1SU;BYMONTH=10
TZNAME:EET
END:STANDARD
END:VTIMEZONE
BEGIN:VEVENT
DTSTAMP:20260422T114551
UID:tamsk.myclub.fi-5653373
DTSTART;TZID=Europe/Helsinki:20230721T180000
DTEND;TZID=Europe/Helsinki:20230721T190000
DESCRIPTION:Teematunnin aiheena seuraaminen. Tule hakemaan hyviä vinkkejä
  omiin treeneihisi.  Tämä käy myös rallytokoilijoille.\nKouluttajana: 
 Tiina Ruuskanen\nHinta: 11€.\nKoulutus on tarkoitettu Tamskin jäsenille
 . Jäseneksi pääset liittymään täältä: https://tamsk.myclub.fi/flow
 /courses/4153101\n \n\nhttps://tamsk.myclub.fi/flow/events/5653373
LOCATION:Kenttä 2 \, Luhtaantie 58\, Suomi
SEQUENCE:0
SUMMARY:Tampereen Seudun Koirakerho ry: Tokon teematunti: seuraaminen 21.7.
  klo 18-19.
URL;VALUE=URI:https://tamsk.myclub.fi/flow/events/5653373
END:VEVENT
END:VCALENDAR
