BEGIN:VCALENDAR
VERSION:2.0
PRODID:icalendar-ruby
CALSCALE:GREGORIAN
X-WR-TIMEZONE:Europe/Helsinki
BEGIN:VTIMEZONE
TZID:Europe/Helsinki
BEGIN:DAYLIGHT
DTSTART:20260329T040000
TZOFFSETFROM:+0200
TZOFFSETTO:+0300
RRULE:FREQ=YEARLY;BYDAY=-1SU;BYMONTH=3
TZNAME:EEST
END:DAYLIGHT
BEGIN:STANDARD
DTSTART:20261025T030000
TZOFFSETFROM:+0300
TZOFFSETTO:+0200
RRULE:FREQ=YEARLY;BYDAY=-1SU;BYMONTH=10
TZNAME:EET
END:STANDARD
END:VTIMEZONE
BEGIN:VEVENT
DTSTAMP:20260422T114517
UID:tamsk.myclub.fi-5439604
DTSTART;TZID=Europe/Helsinki:20230730T090000
DTEND;TZID=Europe/Helsinki:20230730T190000
DESCRIPTION:Einari Pekkala kouluttaa Games-lajia Gamblers su 30.7.2023\nIlm
 oittautuminen aukeaa 1.7. klo 18 ja päättyy 22.7. klo 18\nAiempaa osaami
 sta Games lajeista ei tarvita.\nMukaan mahtuu 16-20 koirakkoa\, mikäli os
 allistujia on alle 10 tai alle pidetään koulutus yhdessä ryhmässä.  O
 sallistumishinta jäsenille on 45€ / koirakkopaikalle\, muille 50€\, k
 uunteluoppilailta 10€.\nRyhmä 1\, 8-10 koirakkoa  9:00-9:30 Radanrakenn
 us  9:30-10:30 Sääntöluento ja ratasuunnittelu  10:30-10:45 Rataantutus
 tuminen  10:45-11:00 Lämmittely  11:00-14:00 Ratatreeni n. 20 min / koira
 kko  \nRyhmä 2\, 8-10 koirakkoa  14:00-15:00 Sääntöluento ja ratasuunn
 ittelu  15:00-15:15 Rataantutustuminen  15:15-15:30 Lämmittely  15:30-18:
 30 Ratatreeni n. 20 min / koirakko  18:30-19:00 Purku ja radan palautus ke
 nttä 4  Ratatreeni sisältää kisanomaisen vedon ja kaksitreenivetoa. Ko
 ko ryhmän kannattaa olla koirankävelytyksiä lukuunottamatta paikalla\, 
 koska toistensuorituksista oppii todella paljon.  \nTamskilaiset ovat etus
 ijalla koulutukseen.\nHuom! Ilmoittautumiset ovat sitovia! se tarkoittaa\,
  että kun olet ilmoittautunut ja mahtunut treeniryhmään\, on sinun maks
 ettava jokainen osallistuminen. jos joudut jäämään pois\, ilmoita koul
 utusvastaavalle ja katsomme MyClubista onko varalla koulutukseen tulijoita
 . Jollei ole\, voit myydä treenipaikkasi.  Lisätietoja  Nina Hanikka nin
 a.hanikka@tamsk.com\n\nhttps://tamsk.myclub.fi/flow/events/5439604
LOCATION:Kenttä 4-5\, Luhtaantie 58\, Suomi
SEQUENCE:0
SUMMARY:Tampereen Seudun Koirakerho ry: Einari Pekkala  kouluttaa Games Gam
 blersia  Tamskilla su  30.7.2023
URL;VALUE=URI:https://tamsk.myclub.fi/flow/events/5439604
END:VEVENT
END:VCALENDAR
