BEGIN:VCALENDAR
VERSION:2.0
PRODID:icalendar-ruby
CALSCALE:GREGORIAN
X-WR-TIMEZONE:Europe/Helsinki
BEGIN:VTIMEZONE
TZID:Europe/Helsinki
BEGIN:DAYLIGHT
DTSTART:20260329T040000
TZOFFSETFROM:+0200
TZOFFSETTO:+0300
RRULE:FREQ=YEARLY;BYDAY=-1SU;BYMONTH=3
TZNAME:EEST
END:DAYLIGHT
BEGIN:STANDARD
DTSTART:20261025T030000
TZOFFSETFROM:+0300
TZOFFSETTO:+0200
RRULE:FREQ=YEARLY;BYDAY=-1SU;BYMONTH=10
TZNAME:EET
END:STANDARD
END:VTIMEZONE
BEGIN:VEVENT
DTSTAMP:20260421T124133
UID:tamsk.myclub.fi-5413638
DTSTART;TZID=Europe/Helsinki:20230523T173000
DTEND;TZID=Europe/Helsinki:20230523T173000
DESCRIPTION:Nyt on mahdollisuus tutustua koiratanssiin ensin lyhyen teorial
 uennon muodossa ja sitten koiran kanssa harjoitellen. Kouluttajana on pitk
 än linjan koiratanssija Ulla Rosenlund.\nMukaan voivat tulla kaiken tasoi
 set koirakot. Kurssilla opetellaan koiratanssin perusasioita ja edetään 
 koirakoiden tason mukaisesti.\n\nOhjaajan on oltava kurssin alkaessa TamSK
  ry:n jäsen tai liityttävä jäseneksi (katso lisätietoja: http://www.t
 amsk.com/yhdistys/jasenyys/) kun kurssipaikka varmistuu.\n\nKurssi kestä
 ä viisi kertaa. Ensimmäisellä kerralla on teoriaa ennen kenttäharjoitu
 sta. Teoria pidetään ilman koiria.\nTiistaina 23.5.2023 klo 17.00-17.30 
 teorialuento\, paikkana Tupa (Jos käyt Heidi Salmisen koiratanssiin tutus
 tumisen ennen tätä kurssia\, niin voit halutessasi olla pois teoriaosuud
 esta)\nTiistaisin 23.5.- 20.6.2023 kello 17.30-18.30\, Harjoitukset koiran
  kanssa paikkana kenttä 2\n\nKurssin hinta on 55 € / koirakko. Mukaan m
 ahtuu 4 koirakkoa.\n\nKouluttajana toimii koiratanssin koulutusohjaaja Ull
 a Rosenlund.\n\nhttps://tamsk.myclub.fi/flow/events/5413638
LOCATION:Kenttä 2 \, Luhtaantie 58\, Suomi
SEQUENCE:0
SUMMARY:Tampereen Seudun Koirakerho ry: Koiratanssin alkeiskurssi
URL;VALUE=URI:https://tamsk.myclub.fi/flow/events/5413638
END:VEVENT
END:VCALENDAR
