BEGIN:VCALENDAR
VERSION:2.0
PRODID:icalendar-ruby
CALSCALE:GREGORIAN
X-WR-TIMEZONE:Europe/Helsinki
BEGIN:VTIMEZONE
TZID:Europe/Helsinki
BEGIN:DAYLIGHT
DTSTART:20260329T040000
TZOFFSETFROM:+0200
TZOFFSETTO:+0300
RRULE:FREQ=YEARLY;BYDAY=-1SU;BYMONTH=3
TZNAME:EEST
END:DAYLIGHT
BEGIN:STANDARD
DTSTART:20261025T030000
TZOFFSETFROM:+0300
TZOFFSETTO:+0200
RRULE:FREQ=YEARLY;BYDAY=-1SU;BYMONTH=10
TZNAME:EET
END:STANDARD
END:VTIMEZONE
BEGIN:VEVENT
DTSTAMP:20260423T220540
UID:tamsk.myclub.fi-5194528
DTSTART;TZID=Europe/Helsinki:20230303T120000
DTEND;TZID=Europe/Helsinki:20230303T210000
DESCRIPTION:Timo Liuhto kouluttaa agilitya perjantaina 3.3..2023 klo 12-21\
 , teemana ohjaustekniikat: kuvioita joissa on pujottelu sekä kontaktieste
 et mukana eri taitotasoa vaativilla kuvioilla\nNämä ryhmät toteutetaan 
 ensin  Ryhmä3 17-19  Ryhmä4 19-21  \nMikäli ilmoittautuneita tulee palj
 on toteutetaan nämä ryhmät  Ryhmä1 12-14  Ryhmä2 14-16  \nKoulutus so
 pii kaikille koirakoille. Ryhmäjako 2t/5 koirakkoa. Hinta on 50 €/koira
 kko Tamskilaisille ja muille 55€. Ilmoittautuneiden suuri määrä saatt
 aa laskea hintaa hieman. Tamskilaiset ovat etusijalla koulutukseen.\nKoulu
 tus on tavallisella harjoituskentällä (kenttä 5) (ensimmäinen ryhmä r
 akentaa radan ja viimeinen purkaa).\nHuom! Ilmoittautumiset ovat sitovia! 
 se tarkoittaa\, että kun olet ilmoittautunut ja mahtunut treeniryhmään\
 , on sinun maksettava osallistuminen. Jos joudut jäämään pois\, ilmoit
 a koulutusvastaavalle ja katsomme MyClubista onko varalla koulutukseen tul
 ijoita. Jollei ole\, voit myydä treenipaikkasi.\nKouluttajan esittely: Ti
 mo Liuhto on kouluttanut ja kilpaillut agilitya omilla koirilla vuodesta 2
 000 ja tehnyt agilityvalmennusta päätyökseen vuodesta 2014. Hän on oll
 ut SAGi TOP Teamsissa kaudella 2014-15\, 20-21\, 21-22 ja tulevana kautena
  2023. Hän on valmentanut ulkomailla vuodesta 2014 mm. Italiassa\, Iso-Br
 itanniassa\, Kanadassa\, Hollannissa\, Saksassa ja Sveitsissä ja koulutus
 seminaareissa 10 osavaltiossa USA:ssa. Hän on ollut Suomen edustusjoukkue
 essa kolmella eri koiralla MM\, EO- ja PM-kisoissa vuodesta 2009 lähtien.
  Saavutuksina on AvoSM-1\, EO-finaalin 9. sija\, Suomen MM-karsintojen voi
 tto 2015\, PM-yksilöpronssia ja PM-joukkuekultaa sekä lukuisia SM-joukku
 emitaleja. Kansainvälistä kisakokemusta on myös muista kilpailuista eri
  puolilla Eurooppaa ja USA:ssa.\nTulevien koulutusten päivät:\n28.4. Ja 
 27.5. yhdistelmiä treenatuista jutuista / rataa\n\nhttps://tamsk.myclub.f
 i/flow/events/5194528
LOCATION:Kenttä 5 \, Luhtaantie 58\, Suomi
SEQUENCE:0
SUMMARY:Tampereen Seudun Koirakerho ry: Timo Liuhto valmentaa agilitya sunn
 untaina 3.3.23 teemana ohjaustekniikat
URL;VALUE=URI:https://tamsk.myclub.fi/flow/events/5194528
END:VEVENT
END:VCALENDAR
