BEGIN:VCALENDAR
VERSION:2.0
PRODID:icalendar-ruby
CALSCALE:GREGORIAN
X-WR-TIMEZONE:Europe/Helsinki
BEGIN:VTIMEZONE
TZID:Europe/Helsinki
BEGIN:DAYLIGHT
DTSTART:20260329T040000
TZOFFSETFROM:+0200
TZOFFSETTO:+0300
RRULE:FREQ=YEARLY;BYDAY=-1SU;BYMONTH=3
TZNAME:EEST
END:DAYLIGHT
BEGIN:STANDARD
DTSTART:20261025T030000
TZOFFSETFROM:+0300
TZOFFSETTO:+0200
RRULE:FREQ=YEARLY;BYDAY=-1SU;BYMONTH=10
TZNAME:EET
END:STANDARD
END:VTIMEZONE
BEGIN:VEVENT
DTSTAMP:20260423T204349
UID:tamsk.myclub.fi-10484003
DTSTART;TZID=Europe/Helsinki:20260403T110000
DTEND;TZID=Europe/Helsinki:20260403T160000
DESCRIPTION:Lähtöongelmaa vai kisavirehaasteita? Tule treenaamaan kisatil
 annetta isolle kentälle perjantaina 3.4.2026 klo 11:00-16:00. Tarjolla 1-
 2lk agilityrata\, joka on mahdollista tehdä osin hyppyratana. Aikaa on hy
 vin\, neljä koirakkoa/tunti. Ensimmäinen ryhmä osallistuu radan rakenta
 miseen ja viimeinen ryhmä purkuun.\nKouluttajana Ruusu Peippo: Kokemusta 
 lajista vuodesta 2012 lähtien\, mineistä pikkumakseihin.  ryhmä: 11:00 
 - 12:30 (sis. radan rakennus)  ryhmä: 12:30 - 13:30  ryhmä: 13:30 - 14:3
 0  ryhmä: 14:30 -16:00 (sis. radan purku)  \nVoit ilmoittaa mahdollisen r
 yhmätoiveesi ilmoittautumisen yhteydessä. Toiveet pyritään ottamaan hu
 omioon ryhmiä jakaessa. Ilmoita myös koiran hyppykorkeus.\nHinta 14e\nHu
 om! Ilmoittautumiset ovat sitovia. Se tarkoittaa\, että kun olet ilmoitta
 utunut ja mahtunut mukaan\, on sinun maksettava osallistuminen. Jonoon ilm
 oittautuminen on myös mahdollista. Mikäli et pääse itse osallistumaan 
 koulutukseen ja jonossa ei ole ketään\, myythän itse oman treenipaikkas
 i seuraavalle ja hoidat tapahtumasta tulevat tiedot paikkasi ostajalle. Po
 istathan itsesi jonosta\, jos et haluakaan osallistua koulutukseen.\n\nhtt
 ps://tamsk.myclub.fi/flow/events/10484003
LOCATION:Kenttä 4-5\, Luhtaantie 58\, Suomi
SEQUENCE:0
SUMMARY:Tampereen Seudun Koirakerho ry: Tähtitiimi kouluttaa: ison kentän
  treenit
URL;VALUE=URI:https://tamsk.myclub.fi/flow/events/10484003
END:VEVENT
END:VCALENDAR
